Workbook

Sheet Details Sheet
A5: INLAND EMPIRE HEALTH PLAN
A6: IPA Care Management Review Tool (Medicare / CMC)
A7: Date | B7: Change Summary | C7: Approval Provided By: | D7: Title | E7: Version #
A8: 43888 | B8: Revisions to Data Dictionary | C8: Anna Edwards | D8: Clinical Director Care Management | E8: Version #1
A9: 43902 | B9: Revisions to Data Dictionary | C9: Dominique Smith | D9: Manager of Regulatory and Quality Compliance | E9: Version # 1.1
A10: 43927 | B10: Revisions to add formulas for DOC | E10: Version # 1.1
A11: 43937 | B11: Revisions to IPA names and DO Nurse drop down list | E11: Version # 1.1

Sheet Review Tool
E2: Delegated IPA Transition of Care File Review Tool | J2: Overall Score: | K2: =IFERROR(COUNTIF(D21:AF30,"Yes")/(COUNTIF(D21:AF30,"Yes")+COUNTIF(D21:AF30,"No")),"No Applicable Files Reviewed") -> No Applicable Files Reviewed
E3: Medicare
E5: IPA:
E6: Reviewer:
E7: Service Year: | G7: Service Month:
E8: Review Year: | G8: Review Month:
C11: Standard guide | D11: File Review: #1 | E11: Comments: | F11: File Review: #2 | G11: Comments: | H11: File Review: #3 | I11: Comments: | J11: File Review: #4 | K11: Comments: | L11: File Review: #5 | M11: Comments: | N11: File Review: #6 | O11: Comments: | P11: File Review: #7 | Q11: Comments: | R11: File Review: #8 | S11: Comments: | T11: File Review: #9 | U11: Comments: | V11: File Review: #10 | W11: Comments: | X11: File Review: #11 | Y11: Comments: | Z11: File Review: #12 | AA11: Comments: | AB11: File Review: #13 | AC11: Comments: | AD11: File Review: #14 | AE11: Comments: | AF11: File Review: #15 | AG11: Comments:
B12: Member Full Name | C12: Last, First
B13: Member ID# | C13: Full 12 digit Member ID
B14: File Type | C14: Dual Choice
B15: IEHP Dual Choice Initial Enrollment Date | C15: IEHP enrollment date
B16: IPA Eligibility Date
B17: Inpatient Admission Date | C17: Most recent IPA enrollment date
B18: Inpatient Discharge Date
B19: Admission Diagnosis/Reason for Admission
B20: Outreach Disposition
B21: Reassessment completed due to change in condition
A22: 5 | B22: ='Data Dictionary'!A4 -> ICP updated based on Member's needs and/or condition | C22: Demonstrate documentation that the Member was given the option to opt out. Date of ICP opt out:
B23: ='Data Dictionary'!A5 -> Upon admission notification, appropriate outreach attempts were completed to notify Member of the care transition process | C23: Outreach attempts: 1) 2) 3)
B24: ='Data Dictionary'!A6 -> Member was notified of the care transition process and provided with the care management central point of contact information | C24: Outreach attempts: 1) 2) 3)
B25: ='Data Dictionary'!A7 -> Appropriate outreach attempts were made to contact Member or Caregiver within 3 business days post discharge. | C25: Outreach attempts: 1) 2) 3)
B26: Member and/or their authorized representative was notified of changes made to the ICP and given the opportunity to review and sign the care plan and any amendments
B27: Provider was notified of changes made to ICP
B28: Member received ICP and additional documents in preferred language
B29: ='Data Dictionary'!A11 -> Member's identified care coordination needs addressed | C29: Outreach attempts: 1) 2) 3)
B30: ='Data Dictionary'!A12 -> Coordinated with appropriate team discipline for medication reconciliation to be completed within 30 days of discharge | C30: Outreach attempts: 1) 2) 3)
B31: Individual Score | D31: =IFERROR(COUNTIF(D21:D30,"Yes")/(COUNTIF(D21:D30,"Yes")+COUNTIF(D21:D30,"No")),"Case not Applicable") -> Case not Applicable | F31: =IFERROR(COUNTIF(F21:F30,"Yes")/(COUNTIF(F21:F30,"Yes")+COUNTIF(F21:F30,"No")),"Case not Applicable") -> Case not Applicable | H31: =IFERROR(COUNTIF(H21:H30,"Yes")/(COUNTIF(H21:H30,"Yes")+COUNTIF(H21:H30,"No")),"Case not Applicable") -> Case not Applicable | J31: =IFERROR(COUNTIF(J21:J30,"Yes")/(COUNTIF(J21:J30,"Yes")+COUNTIF(J21:J30,"No")),"Case not Applicable") -> Case not Applicable | L31: =IFERROR(COUNTIF(L21:L30,"Yes")/(COUNTIF(L21:L30,"Yes")+COUNTIF(L21:L30,"No")),"Case not Applicable") -> Case not Applicable | N31: =IFERROR(COUNTIF(N21:N30,"Yes")/(COUNTIF(N21:N30,"Yes")+COUNTIF(N21:N30,"No")),"Case not Applicable") -> Case not Applicable | P31: =IFERROR(COUNTIF(P21:P30,"Yes")/(COUNTIF(P21:P30,"Yes")+COUNTIF(P21:P30,"No")),"Case not Applicable") -> Case not Applicable | R31: =IFERROR(COUNTIF(R21:R30,"Yes")/(COUNTIF(R21:R30,"Yes")+COUNTIF(R21:R30,"No")),"Case not Applicable") -> Case not Applicable | T31: =IFERROR(COUNTIF(T21:T30,"Yes")/(COUNTIF(T21:T30,"Yes")+COUNTIF(T21:T30,"No")),"Case not Applicable") -> Case not Applicable | V31: =IFERROR(COUNTIF(V21:V30,"Yes")/(COUNTIF(V21:V30,"Yes")+COUNTIF(V21:V30,"No")),"Case not Applicable") -> Case not Applicable | X31: =IFERROR(COUNTIF(X21:X30,"Yes")/(COUNTIF(X21:X30,"Yes")+COUNTIF(X21:X30,"No")),"Case not Applicable") -> Case not Applicable | Z31: =IFERROR(COUNTIF(Z21:Z30,"Yes")/(COUNTIF(Z21:Z30,"Yes")+COUNTIF(Z21:Z30,"No")),"Case not Applicable") -> Case not Applicable | AB31: =IFERROR(COUNTIF(AB21:AB30,"Yes")/(COUNTIF(AB21:AB30,"Yes")+COUNTIF(AB21:AB30,"No")),"Case not Applicable") -> Case not Applicable | AD31: =IFERROR(COUNTIF(AD21:AD30,"Yes")/(COUNTIF(AD21:AD30,"Yes")+COUNTIF(AD21:AD30,"No")),"Case not Applicable") -> Case not Applicable | AF31: =IFERROR(COUNTIF(AF21:AF30,"Yes")/(COUNTIF(AF21:AF30,"Yes")+COUNTIF(AF21:AF30,"No")),"Case not Applicable") -> Case not Applicable
B32: File Summary
D51: CM File Review Score | E51: =K2 -> No Applicable Files Reviewed
D52: Number of CM Members on Log | E52: =COUNT(D13,F13,H13,J13,L13,N13,P13,R13,T13,V13,X13,#REF!,#REF!,#REF!,#REF!) -> 0
D53: Total Cases Requiring ICP | E53: =COUNTIF(#REF!,"Y")+COUNTIF(#REF!,"N") -> #REF!
D54: Cases Involving Individualized CM Plan | E54: =COUNTIF(#REF!,"Y") -> #REF!
D55: Development of ICP Rate (row 28) | E55: =IFERROR(E54/E53,"N/A") -> N/A
D56: Total Cases Requiring ICT | E56: =COUNTIF(#REF!,"Y")+COUNTIF(#REF!,"N") -> #REF!
D57: Cases Involving Interdisciplinary Care Team | E57: =COUNTIF(#REF!,"Y") -> #REF!
D58: ICT Involved with Case Rate (row 34) | E58: =IFERROR(E57/E56,"N/A") -> N/A

Sheet Summary of Findings
A1: Summary of Findings (TOC)
A2: Element # | B2: Element | C2: Type | D2: Reassess Yes | E2: Reassess No | F2: Reassess N/A | G2: New Enroll Yes | H2: New Enroll No | I2: New Enroll N/A | J2: Overall Yes | K2: Overall No | L2: Overall N/A | M2: Total Score
A3: 1 | B3: Reassessment completed due to change in condition | C3: TOC | J3: =COUNTIF('Review Tool'!$D21:$AF21,"Yes") -> 0 | K3: =COUNTIF('Review Tool'!$D21:$AF21,"No") -> 0 | L3: =COUNTIF('Review Tool'!$D21:$AF21,"N/A") -> 0 | M3: =IFERROR(J3/(J3+K3)," ")
A4: 2 | B4: ICP updated based on Member's needs and/or condition | C4: ICP | J4: =COUNTIF('Review Tool'!$D22:$AF22,"Yes") -> 0 | K4: =COUNTIF('Review Tool'!$D22:$AF22,"No") -> 0 | L4: =COUNTIF('Review Tool'!$D22:$AF22,"N/A") -> 0 | M4: =IFERROR(J4/(J4+K4)," ")
A5: 3 | B5: Upon admission notification, appropriate outreach attempts were completed to notify Member of the care transition process | C5: Timely Outreach | J5: =COUNTIF('Review Tool'!$D23:$AF23,"Yes") -> 0 | K5: =COUNTIF('Review Tool'!$D23:$AF23,"No") -> 0 | L5: =COUNTIF('Review Tool'!$D23:$AF23,"N/A") -> 0 | M5: =IFERROR(J5/(J5+K5)," ")
A6: 4 | B6: Member was notified of the care transition process and provided with the care management central point of contact information | C6: Timely Outreach | J6: =COUNTIF('Review Tool'!$D24:$AF24,"Yes") -> 0 | K6: =COUNTIF('Review Tool'!$D24:$AF24,"No") -> 0 | L6: =COUNTIF('Review Tool'!$D24:$AF24,"N/A") -> 0 | M6: =IFERROR(J6/(J6+K6)," ")
A7: 5 | B7: Appropriate outreach attempts were made to contact Member or Caregiver within 3 business days post discharge. | C7: Timely Outreach | J7: =COUNTIF('Review Tool'!$D25:$AF25,"Yes") -> 0 | K7: =COUNTIF('Review Tool'!$D25:$AF25,"No") -> 0 | L7: =COUNTIF('Review Tool'!$D25:$AF25,"N/A") -> 0 | M7: =IFERROR(J7/(J7+K7)," ")
A8: 6 | B8: Member and/or their authorized representative was notified of changes made to the ICP and given the opportunity to review and sign the care plan and any amendments | C8: ICP | J8: =COUNTIF('Review Tool'!$D26:$AF26,"Yes") -> 0 | K8: =COUNTIF('Review Tool'!$D26:$AF26,"No") -> 0 | L8: =COUNTIF('Review Tool'!$D26:$AF26,"N/A") -> 0 | M8: =IFERROR(J8/(J8+K8)," ")
A9: 7 | B9: Provider was notified of changes made to ICP | C9: ICP | J9: =COUNTIF('Review Tool'!$D27:$AF27,"Yes") -> 0 | K9: =COUNTIF('Review Tool'!$D27:$AF27,"No") -> 0 | L9: =COUNTIF('Review Tool'!$D27:$AF27,"N/A") -> 0 | M9: =IFERROR(J9/(J9+K9)," ")
A10: 8 | B10: Member received ICP and additional documents in preferred language | C10: ICP | J10: =COUNTIF('Review Tool'!$D28:$AF28,"Yes") -> 0 | K10: =COUNTIF('Review Tool'!$D28:$AF28,"No") -> 0 | L10: =COUNTIF('Review Tool'!$D28:$AF28,"N/A") -> 0 | M10: =IFERROR(J10/(J10+K10)," ")
A11: 9 | B11: Member's identified care coordination needs addressed | C11: TOC | J11: =COUNTIF('Review Tool'!$D29:$AF29,"Yes") -> 0 | K11: =COUNTIF('Review Tool'!$D29:$AF29,"No") -> 0 | L11: =COUNTIF('Review Tool'!$D29:$AF29,"N/A") -> 0 | M11: =IFERROR(J11/(J11+K11)," ")
A12: 10 | B12: Coordinated with appropriate team discipline for medication reconciliation to be completed within 30 days of discharge | C12: TOC | J12: =COUNTIF('Review Tool'!$D30:$AF30,"Yes") -> 0 | K12: =COUNTIF('Review Tool'!$D30:$AF30,"No") -> 0 | L12: =COUNTIF('Review Tool'!$D30:$AF30,"N/A") -> 0 | M12: =IFERROR(J12/(J12+K12)," ")
C15: ICP Comp Score | D15: =SUMIF($C$3:$C$12,"ICP",$J$3:$J$12)/(SUMIF($C$3:$C$12,"ICP",$J$3:$J$12)+SUMIF($C$3:$C$12,"ICP",$K$3:$K$12)) -> #DIV/0!
C16: Time Out Score | D16: =SUMIF($C$3:$C$12,"Timely Outreach",$J$3:$J$12)/(SUMIF($C$3:$C$12,"Timely Outreach",$J$3:$J$12)+SUMIF($C$3:$C$12,"Timely Outreach",$K$3:$K$12)) -> #DIV/0!
C17: TOC Score | D17: =SUMIF($C$3:$C$12,"TOC",$J$3:$J$12)/(SUMIF($C$3:$C$12,"TOC",$J$3:$J$12)+SUMIF($C$3:$C$12,"TOC",$K$3:$K$12)) -> #DIV/0!

Sheet Data Dictionary
A1: TOC ELEMENTS
A2: Element | B2: Purpose/Objective | C2: Regulatory Criteria & Policy | D2: Methodology | E2: Scope | F2: Benchmark | G2: Look-back Period | H2: Data Source | I2: Frequency
A3: Reassessment completed due to change in condition | C3: IEHP Provider Policy and Procedure Manual - MA_12A2 | D3: Review of clinical documentation that demonstrates IPA conducted reassessment when there is a change in the Member’s condition, a change in PCP, and per the Member’s request. | E3: Dual Choice member with an admission/care transition during the lookback period | F3: >90% | G3: 13 Months | H3: Care management clinical documentation | I3: Monthly
A4: ICP updated based on Member's needs and/or condition | C4: IEHP Provider Policy and Procedure Manual - MA_12A3 | D4: Review of clinical documentation that demonstrates the ICP is updated at least annually, and in the following instances, at minimum: A change in the Member’s health condition, including but not limited to a change in the level of care; A new problem has been identified with the Member; A goal has changed priority, has been met or is no longer applicable; and ICP is closed or completed | E4: Dual Choice member with an admission/care transition during the lookback period | F4: > 90% | G4: 13 Months | H4: Care management clinical documentation | I4: Monthly
A5: Upon admission notification, appropriate outreach attempts were completed to notify Member of the care transition process | C5: IEHP Provider Policy and Procedure Manual - MA_12A7 | D5: Documentation of evidence that supports IPAs communication with the Member and/or Member caregiver about the care transition process within 1-2 business days, not to exceed three (3) business days post notification of hospital or skilled nursing facility admission | E5: Dual Choice member with an admission/care transition during the lookback period | F5: > 90% | G5: 13 Months | H5: Care management clinical documentation | I5: Monthly
A6: Member was notified of the care transition process and provided with the care management central point of contact information | C6: IEHP Provider Policy and Procedure Manual - MA_12A7 | D6: Documentation of evidence that supports IPAs communication with the Member and/or Member’s caregiver about changes to the Member’s health status and plan of care, and to provide the Member or caregiver with a central point of contact within 1-2 business days, not to exceed three (3) business days of notification of a hospital or skilled nursing facility admission; | E6: Dual Choice member with an admission/care transition during the lookback period | F6: > 90% | G6: 13 Months | H6: Care management clinical documentation | I6: Monthly
A7: Appropriate outreach attempts were made to contact Member or Caregiver within 3 business days post discharge. | C7: IEHP Provider Policy and Procedure Manual - MA_12A7 | D7: Review of case notes to identify upon discharge notification, Member or Caregiver was contacted within three (3) business days post discharge. If needs were identified, they were addressed and captured in the documentation system. This includes closing the loop (lookback) to ensure all needs were met or a plan is in place to address. IPA is required to follow up with the Member at least thirty (30) days post-transition and upon Member's agreed cadence of contact. | E7: Dual Choice member with a discharge/care transition during the lookback period | F7: > 90% | G7: 13 Months | H7: Care management clinical documentation | I7: Monthly
A8: Member and/or their authorized representative was notified of changes made to the ICP and given the opportunity to review and sign the care plan and any amendments | C8: IEHP Provider Policy and Procedure Manual - MA_12A3 Model of Care (MOC) Program Description: IEHP's DualChoice (D-SNP) | D8: Review of clinical documentation demonstrates the Member and/or representative was allowed to review and sign the updated ICP. Review of clinical documentation that demonstrates that Member was notified of all changes made to the Individualized Care Plan regardless if Member is UTC or declines initial ICP development. A copy of the ICP should be provided if ICP is completed/closed, change in PCP, and if there is a change in condition. | E8: Dual Choice members with a care plan developed or updated within lookback period. | F8: > 90% | G8: 13 Months | H8: Care management clinical documentation | I8: Monthly
A9: Provider was notified of changes made to ICP | C9: IEHP Provider Policy and Procedure Manual - MA_12A3 Model of Care (MOC) Program Description: IEHP's DualChoice (D-SNP) | D9: Review of clinical documentation that demonstrates Provider was notified of all changes made to the Individualized Care Plan regardless if Member is UTC or declines initial ICP development. A copy of the ICP should be provided if ICP is completed/closed, change in PCP, and if there is a change in condition. | E9: Dual Choice members with a care plan developed or updated within lookback period. | F9: > 90% | G9: 13 Months | H9: Care management clinical documentation | I9: Monthly
A10: Member received ICP and additional documents in preferred language | C10: IEHP Provider Policy and Procedure Manual - MA_12A3 Model of Care (MOC) Program Description: IEHP's DualChoice (D-SNP) | D10: Review of documentation that demonstrates the ICP was provided in Member preferred preference and/or alternative formats, including Member's Threshold Language preference. This includes educational materials and UTC letters. | E10: Dual Choice members with a care plan developed or updated within lookback period. | F10: > 90% | G10: 14 Months | H10: Care management clinical documentation | I10: Monthly
A11: Member's identified care coordination needs addressed | C11: IEHP Provider Policy and Procedure Manual - MA_12A7 | D11: Review of case notes and assessment to ensure change of condition reassessment was completed post discharge. All needs identified in assessment are addressed and captured within documentation system. Assess Member’s need for all environmental adaptations, equipment, and/or technology (i.e., walker with seat, shower chair, or ramp for wheelchair) needed for a successful care setting transition or any other adaptive equipment or technology necessary for a successful transition back to their usual setting; d. Discuss options available to the Member such as sub-acute, skilled nursing or acute rehabilitation, after discharge from acute setting, when skilled level of care cannot be provided in Member’s usual setting and assist with scheduling appointments or needed educational activities; and e. Notify the Members’ PCP to inform of the admission and discharge. Documentation of evidence that referrals were coordinated timely as appropriate for identified care needs. | E11: Dual Choice member with a discharge/care transition during the lookback period | F11: > 90% | G11: 13 Months | H11: Care management clinical documentation | I11: Monthly
A12: Coordinated with appropriate team discipline for medication reconciliation to be completed within 30 days of discharge | C12: IEHP Provider Policy and Procedure Manual - MA_12A7 | D12: Medication reconciliation documented within the medical management system demonstrating the IPAs will collaborate with IEHP’s Pharmaceutical Services department to assist with medication reconciliation and medication management, and ensure that the medication list is included on the plan of care Clinical Pharmacists: Complex/high-risk post-discharge Pharmacy technicians: Non-complex post discharge | E12: Dual Choice member with a discharge/care transition during the lookback period | F12: > 90% | G12: 13 Months | H12: Care management clinical documentation | I12: Monthly

Sheet Sheet2
A2: Choice Physicians Network
A3: EPIC
A4: Heritage Desert Oasis
A5: Heritage Regal
A6: IEHP Direct
A7: PrimeCare
